BEGIN:VCALENDAR
VERSION:2.0
PRODID:-//Tunesienexplorer.de - ECPv6.15.20//NONSGML v1.0//EN
CALSCALE:GREGORIAN
METHOD:PUBLISH
X-WR-CALNAME:Tunesienexplorer.de
X-ORIGINAL-URL:https://tunesienexplorer.de
X-WR-CALDESC:Veranstaltungen für Tunesienexplorer.de
REFRESH-INTERVAL;VALUE=DURATION:PT1H
X-Robots-Tag:noindex
X-PUBLISHED-TTL:PT1H
BEGIN:VTIMEZONE
TZID:Africa/Tunis
BEGIN:STANDARD
TZOFFSETFROM:+0100
TZOFFSETTO:+0100
TZNAME:CET
DTSTART:20250101T000000
END:STANDARD
END:VTIMEZONE
BEGIN:VEVENT
DTSTART;TZID=Africa/Tunis:20260301T070000
DTEND;TZID=Africa/Tunis:20260301T140000
DTSTAMP:20260423T194425
CREATED:20240316T124012Z
LAST-MODIFIED:20260228T124939Z
UID:22914-1772348400-1772373600@tunesienexplorer.de
SUMMARY:Stromabschaltungen Gouvernorat Sidi Bouzid
DESCRIPTION:Die Tunesische Gesellschaft für Elektrizität und Gas (STEG) in Sidi Bouzid hat eine für Sonntag\, den 1. März 2026\, geplante Stromunterbrechung zwischen 7.00 Uhr und 14.00 Uhr in mehreren Gebieten der Delegationen Sidi Bouzid West\, Bir El Hafi\, Sebala und Jelma im Rahmen von Wartungsarbeiten am Netz angekündigt. \nDie betroffenen Regionen sind: \nGouvernorat Sidi Bouzid (7.00 bis 14.00 Uhr) \n\nDelegation Sidi Bouzid West\nDelegation Bir El Hafi\nDelegation Jelma\nDelegation Sebala\n\nNach Abschluss der geplanten\, periodischen Wartungsarbeiten in den angegebenen Bereichen wird der Strom ohne weitere Vorankündigung wieder eingeschaltet. Die STEG bittet ihre Kunden\, die durch die Stromabschaltung verursachten Unannehmlichkeiten zu entschuldigen. \n.
URL:https://tunesienexplorer.de/event/stromabschaltungen-gouvernorat-sidi-bouzid/
LOCATION:Gouvernorat Sidi Bouzid – Verschiedene Orte\, Sidi Bouzid\, Sidi Bouzid\, 9100\, Tunesien
CATEGORIES:Abschaltungen Strom – Wasser – Gas
ATTACH;FMTTYPE=image/jpeg:https://tunesienexplorer.de/wp-content/uploads/2021/09/800_steg-mast.jpg
END:VEVENT
END:VCALENDAR