BEGIN:VCALENDAR
VERSION:2.0
PRODID:-//Tunesienexplorer.de - ECPv6.15.20//NONSGML v1.0//EN
CALSCALE:GREGORIAN
METHOD:PUBLISH
X-WR-CALNAME:Tunesienexplorer.de
X-ORIGINAL-URL:https://tunesienexplorer.de
X-WR-CALDESC:Veranstaltungen für Tunesienexplorer.de
REFRESH-INTERVAL;VALUE=DURATION:PT1H
X-Robots-Tag:noindex
X-PUBLISHED-TTL:PT1H
BEGIN:VTIMEZONE
TZID:Africa/Tunis
BEGIN:STANDARD
TZOFFSETFROM:+0100
TZOFFSETTO:+0100
TZNAME:CET
DTSTART:20250101T000000
END:STANDARD
END:VTIMEZONE
BEGIN:VEVENT
DTSTART;VALUE=DATE:20260413
DTEND;VALUE=DATE:20260713
DTSTAMP:20260423T122726
CREATED:20260404T135302Z
LAST-MODIFIED:20260404T135350Z
UID:25739-1776038400-1783900799@tunesienexplorer.de
SUMMARY:Nationale Abitur-Prüfungen 2025/2026 in Tunesien
DESCRIPTION:Das Bildungsministerium hat den Kalender der nationalen Prüfungen und Auswahlverfahren für das Schuljahr 2025/2026 veröffentlicht. Sie beginnen am 3. Juni mit den Hauptprüfungen und enden mit den Nachprüfungen\, die bis 12. Juli 2026 abgeschlossen sein sollen. Das Sport-Abitur beginnt am 13. April und wird am 23. Mai 2026 abgeschlossen sein. \nPrüfungen 2025/2026 in Tunesien \n\nDas Abitur beginnt mit der Prüfung im Fach Sport (Sport-Abitur) vom 13. bis 25. April 2026. Die praktischen und mündlichen Prüfungen finden vom 14. bis 23. Mai 2026 statt.\nDie Hauptprüfungsphase des Abiturs findet am 3.\, 4.\, 5.\, 8.\, 9. und 10. Juni 2026 statt\, während die Nachprüfungsphase am 29. und 30. Juni sowie am 1. und 2. Juli 2026 stattfindet. Die Ergebnisse der Hauptprüfungsphase werden am Dienstag\, dem 23. Juni\, veröffentlicht\, die der Nachprüfungsphase am Sonntag\, dem 12. Juli 2026.\nFür das Abschlusszeugnis der allgemeinen und technischen Grundbildung (9. Klasse) sind die schriftlichen Prüfungen für den 18.\, 19. und 20. Juni 2026 vorgesehen\, die Bekanntgabe der Ergebnisse erfolgt am Montag\, dem 6. Juli 2026.\nDie Aufnahmeprüfung für die Pilot-Gymnasien (6. Klasse) findet am 22.\, 23. und 24. Juni 2026 statt\, und die Ergebnisse werden am Freitag\, dem 10. Juli\, bekannt gegeben.\n\nQuelle: Mosaique FM
URL:https://tunesienexplorer.de/event/nationales-abitur-2025-2026-tunesien/
LOCATION:Tunesien landesweit\, Tunesien
CATEGORIES:Bildung
ATTACH;FMTTYPE=image/jpeg:https://tunesienexplorer.de/wp-content/uploads/2022/02/800_examen.jpg
END:VEVENT
BEGIN:VEVENT
DTSTART;VALUE=DATE:20260419
DTEND;VALUE=DATE:20260426
DTSTAMP:20260423T122726
CREATED:20260414T174107Z
LAST-MODIFIED:20260414T174136Z
UID:25793-1776556800-1777161599@tunesienexplorer.de
SUMMARY:Ausstellung „Transparences croisée“ – Faek Rasul im Atelier Sadika Gammarth
DESCRIPTION:Ausstellung „Transparences croisées“ – Faek Rasul im Atelier Sadika Gammarth: Die Vernissage findet am Sonntag\, den 19. April\, um 11 Uhr in der Galerie Alain Arnaud\, Espace Sadika in Gammarth\, statt; die Ausstellung läuft bis zum 25. April  2026. \nFaek Rasul ist ein irakischer Künstler\, der seit 1987 in Österreich lebt und arbeitet. Er strahlt Authentizität aus. Neben seiner eigenen künstlerischen Tätigkeit hat er auch die Wiener Kunstszene maßgeblich geprägt: Von 2000 bis 2005 leitete er die Galerien M-Art und von 2007 bis 2020 die „Kleine Galerie“ im 3. Bezirk\, die sich unter seiner Leitung auf die klassische Moderne in Österreich nach 1945 spezialisierte. \nAusstellung „Transparences croisée“ – Faek Rasul im Atelier Sadika Gammarth\nIm Rahmen eines Künstleraufenthalts in Tunis erforscht er die Verbindung zwischen Tradition und Moderne\, zwischen persönlicher Geschichte und kollektivem Gedächtnis. Im Rahmen eines Künstleraufenthalts in Tunis erforscht er die Verbindung zwischen Tradition und Moderne\, zwischen persönlicher Geschichte und kollektivem Gedächtnis.
URL:https://tunesienexplorer.de/event/ausstellung-transparences-croisee-faek-rasul/
LOCATION:Gammarth: Galerie Alain Nadaud (Sadika)\, Zone Touristique de Gammarth\, Tunis\, Tunis\, 2076\, Tunisia
CATEGORIES:Ausstellungen
ATTACH;FMTTYPE=image/jpeg:https://tunesienexplorer.de/wp-content/uploads/2026/04/800_transparences_ausstellung.jpg
END:VEVENT
BEGIN:VEVENT
DTSTART;VALUE=DATE:20260421
DTEND;VALUE=DATE:20260424
DTSTAMP:20260423T122726
CREATED:20260418T140711Z
LAST-MODIFIED:20260418T142417Z
UID:25816-1776729600-1776988799@tunesienexplorer.de
SUMMARY:Anschlussarbeiten Meerwasserentsalzungsanlage Sousse: Störungen in Monastir und Mahdia
DESCRIPTION:Die Nationale Gesellschaft für die Nutzung und Verteilung von Wasser (Sonede) hat Störungen in der Trinkwasserversorgung vom 21. bis 23. April 2026 angekündigt. Diese erwarteten Störungen\, die ab Dienstag\, dem 21. April 2026 um Mitternacht beginnen\, werden durch Anschlussarbeiten der Meerwasserentsalzungsanlage von Sousse an das Nordwasser-Zuleitungsrohr verursacht und betreffen Delegationen in den Gouvernoraten Monastir und Mahdia\, erklärt die Sonede in ihrer Mitteilung. \nDie betroffenen Gebiete wie folgt: \nMahdia (Delegationen): \n\nMahdia\nRejiche\nKsour Essef\nSidi Alouane\n\nMonastir (Delegationen):  \n\nMonastir\nSahline\nBembla (mit Ausnahme von Menzel Ennour)\nJemmel (mit Ausnahme von Menezl Kamel\, Bir Eltaieb\, El Hdadra)\nMoknine\nKsar Hellal\nTéboulba\nBekalta\nSayada\nLamta\nBouhjar\nKsibet El Médiouni\nZéramdine (mit Ausnahme von Menzel Hayet\, Mzaougha\, Mlichette\n\nDie Wasserversorgung wird schrittweise ab Donnerstag\, den 23. April 2026\, nach Abschluss der Arbeiten wieder aufgenommen\, so die Sonede weiter. \nAnmerkung: Eigentlich sollte die Meerwasserentsalzungsanlage Sousse in Sidi Abdelhamid (Sousse-Süd) im Sommer 2025 in Betrieb gehen\, allerdings wird es wohl erst diesen Sommer soweit sein. \nQuelle: Sonede
URL:https://tunesienexplorer.de/event/anschlussarbeiten-meerwasserentsalzungsanlage-sousse/
LOCATION:Verschiedene Gouvernorate (siehe Text)\, Tunesien
CATEGORIES:Abschaltungen Strom – Wasser – Gas
ATTACH;FMTTYPE=image/jpeg:https://tunesienexplorer.de/wp-content/uploads/2022/07/800_trinkwasser_sonede.jpg
END:VEVENT
END:VCALENDAR