BEGIN:VCALENDAR
VERSION:2.0
PRODID:-//Tunesienexplorer.de - ECPv6.15.20//NONSGML v1.0//EN
CALSCALE:GREGORIAN
METHOD:PUBLISH
X-WR-CALNAME:Tunesienexplorer.de
X-ORIGINAL-URL:https://tunesienexplorer.de
X-WR-CALDESC:Veranstaltungen für Tunesienexplorer.de
REFRESH-INTERVAL;VALUE=DURATION:PT1H
X-Robots-Tag:noindex
X-PUBLISHED-TTL:PT1H
BEGIN:VTIMEZONE
TZID:Africa/Tunis
BEGIN:STANDARD
TZOFFSETFROM:+0100
TZOFFSETTO:+0100
TZNAME:CET
DTSTART:20250101T000000
END:STANDARD
END:VTIMEZONE
BEGIN:VEVENT
DTSTART;VALUE=DATE:20260413
DTEND;VALUE=DATE:20260713
DTSTAMP:20260422T095336
CREATED:20260404T135302Z
LAST-MODIFIED:20260404T135350Z
UID:25739-1776038400-1783900799@tunesienexplorer.de
SUMMARY:Nationale Abitur-Prüfungen 2025/2026 in Tunesien
DESCRIPTION:Das Bildungsministerium hat den Kalender der nationalen Prüfungen und Auswahlverfahren für das Schuljahr 2025/2026 veröffentlicht. Sie beginnen am 3. Juni mit den Hauptprüfungen und enden mit den Nachprüfungen\, die bis 12. Juli 2026 abgeschlossen sein sollen. Das Sport-Abitur beginnt am 13. April und wird am 23. Mai 2026 abgeschlossen sein. \nPrüfungen 2025/2026 in Tunesien \n\nDas Abitur beginnt mit der Prüfung im Fach Sport (Sport-Abitur) vom 13. bis 25. April 2026. Die praktischen und mündlichen Prüfungen finden vom 14. bis 23. Mai 2026 statt.\nDie Hauptprüfungsphase des Abiturs findet am 3.\, 4.\, 5.\, 8.\, 9. und 10. Juni 2026 statt\, während die Nachprüfungsphase am 29. und 30. Juni sowie am 1. und 2. Juli 2026 stattfindet. Die Ergebnisse der Hauptprüfungsphase werden am Dienstag\, dem 23. Juni\, veröffentlicht\, die der Nachprüfungsphase am Sonntag\, dem 12. Juli 2026.\nFür das Abschlusszeugnis der allgemeinen und technischen Grundbildung (9. Klasse) sind die schriftlichen Prüfungen für den 18.\, 19. und 20. Juni 2026 vorgesehen\, die Bekanntgabe der Ergebnisse erfolgt am Montag\, dem 6. Juli 2026.\nDie Aufnahmeprüfung für die Pilot-Gymnasien (6. Klasse) findet am 22.\, 23. und 24. Juni 2026 statt\, und die Ergebnisse werden am Freitag\, dem 10. Juli\, bekannt gegeben.\n\nQuelle: Mosaique FM
URL:https://tunesienexplorer.de/event/nationales-abitur-2025-2026-tunesien/
LOCATION:Tunesien landesweit\, Tunesien
CATEGORIES:Bildung
ATTACH;FMTTYPE=image/jpeg:https://tunesienexplorer.de/wp-content/uploads/2022/02/800_examen.jpg
END:VEVENT
BEGIN:VEVENT
DTSTART;TZID=Africa/Tunis:20260416T150000
DTEND;TZID=Africa/Tunis:20260417T040000
DTSTAMP:20260422T095336
CREATED:20240417T120055Z
LAST-MODIFIED:20260415T130736Z
UID:21094-1776351600-1776398400@tunesienexplorer.de
SUMMARY:Wasserversorgung: Störungen in verschiedenen Gebieten von Sousse\, Monastir und Mahdia
DESCRIPTION:Die Nationale Gesellschaft für Wasserverteilung und -nutzung (SONEDE) hat am Mittwoch\, den 15. April 2026\, bekannt gegeben\, dass es aufgrund von Reparaturarbeiten an der Pumpenleitung der Station El Ghrine im Gouvernorat Kairouan am Donnerstag\, den 16. April 2026 ab 15 Uhr\, vorübergehende Störungen in der Trinkwasserversorgung in mehreren Gebieten der Gouvernorate Sousse\, Monastir und Mahdia geben wird. \nBetroffene Regionen \n\nIm Gouvernorat Sousse betreffen die Störungen die Delegation M’saken sowie die Delegation Kalaa Sghira.\nIm Gouvernorat Monastir werden die Wasserabschaltungen die Delegation Zeramdine\, die Delegation Jemmal und die Delegation Ouardanine sowie die Delegation Bembla betreffen.\nIm Gouvernorat Mahdia wird ebenfalls die Delegation Boumerdes betroffen sein\, insbesondere die Stadt Karker.\n\nDie Sonede präzisierte\, dass die Wiederaufnahme der Wasserversorgung schrittweise ab 4 Uhr morgens am Freitag\, den 17. April 2026\, erfolgen wird.
URL:https://tunesienexplorer.de/event/wasserabschaltungen-tunesien/
LOCATION:Verschiedene Gouvernorate (siehe Text)\, Tunesien
CATEGORIES:Abschaltungen Strom – Wasser – Gas
ATTACH;FMTTYPE=image/jpeg:https://tunesienexplorer.de/wp-content/uploads/2022/07/800_trinkwasser_sonede.jpg
END:VEVENT
END:VCALENDAR